BEGIN:VCALENDAR
VERSION:2.0
PRODID:-//Marine Renewables Canada - ECPv6.15.20//NONSGML v1.0//EN
CALSCALE:GREGORIAN
METHOD:PUBLISH
X-ORIGINAL-URL:https://marinerenewables.ca
X-WR-CALDESC:Events for Marine Renewables Canada
REFRESH-INTERVAL;VALUE=DURATION:PT1H
X-Robots-Tag:noindex
X-PUBLISHED-TTL:PT1H
BEGIN:VTIMEZONE
TZID:America/Halifax
BEGIN:DAYLIGHT
TZOFFSETFROM:-0400
TZOFFSETTO:-0300
TZNAME:ADT
DTSTART:20240310T060000
END:DAYLIGHT
BEGIN:STANDARD
TZOFFSETFROM:-0300
TZOFFSETTO:-0400
TZNAME:AST
DTSTART:20241103T050000
END:STANDARD
BEGIN:DAYLIGHT
TZOFFSETFROM:-0400
TZOFFSETTO:-0300
TZNAME:ADT
DTSTART:20250309T060000
END:DAYLIGHT
BEGIN:STANDARD
TZOFFSETFROM:-0300
TZOFFSETTO:-0400
TZNAME:AST
DTSTART:20251102T050000
END:STANDARD
BEGIN:DAYLIGHT
TZOFFSETFROM:-0400
TZOFFSETTO:-0300
TZNAME:ADT
DTSTART:20260308T060000
END:DAYLIGHT
BEGIN:STANDARD
TZOFFSETFROM:-0300
TZOFFSETTO:-0400
TZNAME:AST
DTSTART:20261101T050000
END:STANDARD
END:VTIMEZONE
BEGIN:VEVENT
DTSTART;TZID=America/Halifax:20250813T183000
DTEND;TZID=America/Halifax:20250813T203000
DTSTAMP:20260420T115014
CREATED:20250123T131525Z
LAST-MODIFIED:20250813T144527Z
UID:19357-1755109800-1755117000@marinerenewables.ca
SUMMARY:Summer Social on the Harbour
DESCRIPTION:Every summer\, Marine Renewables Canada (MRC) holds a summer event to bring its members and the broader ocean and energy industries together for an evening of networking and catching up on progress and opportunities in the sector. \nThis year we’re back on the historic Tall Ship Silva. It will be an evening of networking\, live music\, hors d’oeuvres and refreshments\, and great company with fellow MRC members and industry peers — all while enjoying a scenic cruise around Halifax Harbour. \n📆 August 13\, 2025 \n⏰ 6:30 – 8:30 PM AT \n📍The Tall Ship Silva | Cable Wharf\, 1751 Lower Water Street\, Halifax NS  \nExplore our available sponsorship opportunities by clicking the button below. \n \nFor more information or to discuss how you can get involved\, please contact Amanda White at amanda@marinerenewables.ca.
URL:https://marinerenewables.ca/event/summer-social-on-the-harbour/
LOCATION:The Tall Ship Silva ~ Cable Wharf\, Halifax Waterfront\, 1751 Lower Water Street\, Halifax\, Nova Scotia\, B3J 1S5\, Canada
CATEGORIES:MRC Events
ATTACH;FMTTYPE=image/png:https://marinerenewables.ca/wp-content/uploads/2025/01/summer-social-updated-sponsors-1-e1753978921630.png
END:VEVENT
END:VCALENDAR