BEGIN:VCALENDAR
VERSION:2.0
PRODID:-//Marine Renewables Canada - ECPv6.15.20//NONSGML v1.0//EN
CALSCALE:GREGORIAN
METHOD:PUBLISH
X-ORIGINAL-URL:https://marinerenewables.ca
X-WR-CALDESC:Events for Marine Renewables Canada
REFRESH-INTERVAL;VALUE=DURATION:PT1H
X-Robots-Tag:noindex
X-PUBLISHED-TTL:PT1H
BEGIN:VTIMEZONE
TZID:America/Halifax
BEGIN:DAYLIGHT
TZOFFSETFROM:-0400
TZOFFSETTO:-0300
TZNAME:ADT
DTSTART:20230312T060000
END:DAYLIGHT
BEGIN:STANDARD
TZOFFSETFROM:-0300
TZOFFSETTO:-0400
TZNAME:AST
DTSTART:20231105T050000
END:STANDARD
BEGIN:DAYLIGHT
TZOFFSETFROM:-0400
TZOFFSETTO:-0300
TZNAME:ADT
DTSTART:20240310T060000
END:DAYLIGHT
BEGIN:STANDARD
TZOFFSETFROM:-0300
TZOFFSETTO:-0400
TZNAME:AST
DTSTART:20241103T050000
END:STANDARD
BEGIN:DAYLIGHT
TZOFFSETFROM:-0400
TZOFFSETTO:-0300
TZNAME:ADT
DTSTART:20250309T060000
END:DAYLIGHT
BEGIN:STANDARD
TZOFFSETFROM:-0300
TZOFFSETTO:-0400
TZNAME:AST
DTSTART:20251102T050000
END:STANDARD
END:VTIMEZONE
BEGIN:VEVENT
DTSTART;TZID=America/Halifax:20240620T140000
DTEND;TZID=America/Halifax:20240620T150000
DTSTAMP:20260420T121817
CREATED:20240521T170429Z
LAST-MODIFIED:20240611T113520Z
UID:18726-1718892000-1718895600@marinerenewables.ca
SUMMARY:Ask an Expert  | Lessons Learned and Best Practices for Coexistence with Other Ocean Users
DESCRIPTION:In this fourth installment of MRC’s Ask an Expert webinar series\, we delve into the critical topic of Lessons Learned and Best Practices for Coexistence with Other Ocean Users. Offshore wind is an exciting and rapidly growing industry. However\, for this industry to thrive\, it is essential to ensure harmonious coexistence with other ocean users and uses. \nJoin us for an insightful session featuring Dr. Alison Bates\, Associate Professor of Environmental Studies at Colby College in Maine\, who brings extensive expertise in environmental policy and marine spatial planning. Dr. Bates will highlight some of the lessons learned from her work in offshore wind and co-existence\, providing valuable knowledge and perspective that can inform the responsible development of offshore wind. \nMeet the speaker 👇 \nAlison Bates is an Assistant Professor of Environmental Studies at Colby College in Maine. Dr. Bates researches social acceptance of renewable energy systems and implements an equity and justice framework to inform decision-making in the energy transition. Her research includes multiple technologies including offshore wind\, community solar\, post-disaster energy grid resilience\, and energy efficiency. More recently\, she has focused on floating wind development\, and the possibilities for technical solutions to social challenges with floating wind. She has worked on state and national energy policy with the Maine Governor’s Energy Office and with U.S. Senator Coons to develop markets and policies for renewable energy infrastructure along the Atlantic Outer Continental Shelf and in the Gulf of Maine. She earned her PhD in Marine Policy at the University of Delaware Center for Carbon-free Power Integration and has ten years of experience in the non-profit sector for environmental education and public land conservation. \nDate: June 20\, 2024\nTime: 1:00 – 2:00 pm ET / 2:00 – 3:00 pm AT\nLocation: Zoom
URL:https://marinerenewables.ca/event/ask-an-expert-webinar-4-lessons-learned-and-best-practices-for-coexistence-with-other-ocean-users/
LOCATION:Virtual
ATTACH;FMTTYPE=image/png:https://marinerenewables.ca/wp-content/uploads/2024/05/Ask-4-A.-Bates-1-e1716397811389.png
END:VEVENT
END:VCALENDAR