BEGIN:VCALENDAR
VERSION:2.0
PRODID:-//Marine Renewables Canada - ECPv6.15.20//NONSGML v1.0//EN
CALSCALE:GREGORIAN
METHOD:PUBLISH
X-WR-CALNAME:Marine Renewables Canada
X-ORIGINAL-URL:https://marinerenewables.ca
X-WR-CALDESC:Events for Marine Renewables Canada
REFRESH-INTERVAL;VALUE=DURATION:PT1H
X-Robots-Tag:noindex
X-PUBLISHED-TTL:PT1H
BEGIN:VTIMEZONE
TZID:America/Vancouver
BEGIN:DAYLIGHT
TZOFFSETFROM:-0800
TZOFFSETTO:-0700
TZNAME:PDT
DTSTART:20230312T100000
END:DAYLIGHT
BEGIN:STANDARD
TZOFFSETFROM:-0700
TZOFFSETTO:-0800
TZNAME:PST
DTSTART:20231105T090000
END:STANDARD
BEGIN:DAYLIGHT
TZOFFSETFROM:-0800
TZOFFSETTO:-0700
TZNAME:PDT
DTSTART:20240310T100000
END:DAYLIGHT
BEGIN:STANDARD
TZOFFSETFROM:-0700
TZOFFSETTO:-0800
TZNAME:PST
DTSTART:20241103T090000
END:STANDARD
BEGIN:DAYLIGHT
TZOFFSETFROM:-0800
TZOFFSETTO:-0700
TZNAME:PDT
DTSTART:20250309T100000
END:DAYLIGHT
BEGIN:STANDARD
TZOFFSETFROM:-0700
TZOFFSETTO:-0800
TZNAME:PST
DTSTART:20251102T090000
END:STANDARD
END:VTIMEZONE
BEGIN:VEVENT
DTSTART;TZID=America/Vancouver:20240522T150000
DTEND;TZID=America/Vancouver:20240522T170000
DTSTAMP:20260424T082338
CREATED:20231219T221804Z
LAST-MODIFIED:20240517T122317Z
UID:18210-1716390000-1716397200@marinerenewables.ca
SUMMARY:British Columbia Member Roundtable & Mixer – May 22 | Vancouver\, BC
DESCRIPTION:Calling all Marine Renewables Canada members with interests in British Columbia’s marine renewable energy opportunities! Be part of the conversation and help us grow the sector. \nJoin Marine Renewables Canada (MRC) in Vancouver\, British Columbia (BC) this May 22nd\, 2024 for an opportunity to discuss challenges and opportunities for marine renewable energy in BC\, provide input to some of MRC’s current initiatives\, and connect with other members. \nDuring this roundtable\, members are invited to provide insight on key priorities in the region and discuss ways that MRC can help drive industry development. Your input will help MRC develop future programs\, plans\, and initiatives for 2024 and beyond.   \nAn informal mixer will follow at H2 Kitchen & Bar at the Westin Bayshore Vancouver – a perfect opportunity to keep the conversation going and network with other MRC members!  \nSee agenda for more details. This event is exclusive to MRC members. \n*Registration is complimentary\, but required. This is an in-person event. \n  \nRoundtable Date & Location: \nDate: May 22 | 3:00pm-5:00pm PDT \nLocation: The Westin Bayshore\, Oak Room \n1601 Bayshore Dr.\, Vancouver\, BC V6G 2V4
URL:https://marinerenewables.ca/event/marine-renewables-canada-british-columbia-member-roundtable-spring-2024-victoria-bc/
LOCATION:Private: The Westin Bayshore\, 1601 Bayshore Dr\, Vancouver\, British Columbia\, V6G 2V4\, Canada
CATEGORIES:MRC Member Roundtables
ATTACH;FMTTYPE=image/png:https://marinerenewables.ca/wp-content/uploads/2023/12/BC-1-e1710428627227.png
END:VEVENT
END:VCALENDAR